BEGIN:VCALENDAR
VERSION:2.0
PRODID:-//Blackfriars Hall - ECPv6.15.12.2//NONSGML v1.0//EN
CALSCALE:GREGORIAN
METHOD:PUBLISH
X-ORIGINAL-URL:https://www.bfriars.ox.ac.uk
X-WR-CALDESC:Events for Blackfriars Hall
REFRESH-INTERVAL;VALUE=DURATION:PT1H
X-Robots-Tag:noindex
X-PUBLISHED-TTL:PT1H
BEGIN:VTIMEZONE
TZID:Europe/London
BEGIN:DAYLIGHT
TZOFFSETFROM:+0000
TZOFFSETTO:+0100
TZNAME:BST
DTSTART:20190331T010000
END:DAYLIGHT
BEGIN:STANDARD
TZOFFSETFROM:+0100
TZOFFSETTO:+0000
TZNAME:GMT
DTSTART:20191027T010000
END:STANDARD
BEGIN:DAYLIGHT
TZOFFSETFROM:+0000
TZOFFSETTO:+0100
TZNAME:BST
DTSTART:20200329T010000
END:DAYLIGHT
BEGIN:STANDARD
TZOFFSETFROM:+0100
TZOFFSETTO:+0000
TZNAME:GMT
DTSTART:20201025T010000
END:STANDARD
BEGIN:DAYLIGHT
TZOFFSETFROM:+0000
TZOFFSETTO:+0100
TZNAME:BST
DTSTART:20210328T010000
END:DAYLIGHT
BEGIN:STANDARD
TZOFFSETFROM:+0100
TZOFFSETTO:+0000
TZNAME:GMT
DTSTART:20211031T010000
END:STANDARD
END:VTIMEZONE
BEGIN:VEVENT
DTSTART;TZID=Europe/London:20200313T173000
DTEND;TZID=Europe/London:20200313T200000
DTSTAMP:20260426T050959
CREATED:20191012T125257Z
LAST-MODIFIED:20200225T161705Z
UID:4357-1584120600-1584129600@www.bfriars.ox.ac.uk
SUMMARY:Christian Shakespeare: Question Mark - talk series
DESCRIPTION:The Institute\, in collaboration with Georgetown University\, is holding a series of talks on ‘Christian Shakespeare: Question Mark’ as part of The Future of the Humanities Project and The Humanities Initiative. \n  \nThe fifth talk : \nRound table conversation with Rev Dr Paul Edmondson\, Shakespeare Birthplace Trust\, Clare Asquith\, literary critic\, Prof Michael Collins\, Georgetown University\, and Dr Yvette Khoury\, Blackfriars Hall\, chaired by Prof Michael Scott\, Blackfriars Hall followed by \na lecture given by the Very Rev Dr Rowan Williams\, Magdalene College\, Cambridge on ‘Binding the Sacrifice: Theological Parodies in The Merchant of Venice‘ \nSpaces are limited\, booking is essential via Eventbrite \n  \nFurther events in the series: \n5 May 2020\nProf Paul Fiddes\, Regent’s Park College\, Oxford\nProf Gerard Kilroy\, Campion Hall\, Oxford \n20 May 2020\nDr Andrew Moran from the University of Dallas\,  Texas\nDr Bonnie Lander Johnson\, University of Cambridge \nVenue: the Aula\, Blackfriars Hall\, Oxford
URL:https://www.bfriars.ox.ac.uk/event/christian-shakespeare-question-mark-talk-series-5/
LOCATION:Ioannou Centre for Classical and Byzantine Studies\, 66 St Giles'\, Oxford\, OX1 3LU\, United Kingdom
CATEGORIES:Las Casas Institute
ORGANIZER;CN="Las Casas Institute with Georgetown University":MAILTO:lascasas@bfriars.ox.ac.uk
GEO:51.7557775;-1.2596946
X-APPLE-STRUCTURED-LOCATION;VALUE=URI;X-ADDRESS=Ioannou Centre for Classical and Byzantine Studies 66 St Giles' Oxford OX1 3LU United Kingdom;X-APPLE-RADIUS=500;X-TITLE=66 St Giles':geo:-1.2596946,51.7557775
END:VEVENT
END:VCALENDAR