BEGIN:VCALENDAR
VERSION:2.0
PRODID:-//Blackfriars Hall - ECPv6.15.12.2//NONSGML v1.0//EN
CALSCALE:GREGORIAN
METHOD:PUBLISH
X-ORIGINAL-URL:https://www.bfriars.ox.ac.uk
X-WR-CALDESC:Events for Blackfriars Hall
REFRESH-INTERVAL;VALUE=DURATION:PT1H
X-Robots-Tag:noindex
X-PUBLISHED-TTL:PT1H
BEGIN:VTIMEZONE
TZID:Europe/London
BEGIN:DAYLIGHT
TZOFFSETFROM:+0000
TZOFFSETTO:+0100
TZNAME:BST
DTSTART:20190331T010000
END:DAYLIGHT
BEGIN:STANDARD
TZOFFSETFROM:+0100
TZOFFSETTO:+0000
TZNAME:GMT
DTSTART:20191027T010000
END:STANDARD
BEGIN:DAYLIGHT
TZOFFSETFROM:+0000
TZOFFSETTO:+0100
TZNAME:BST
DTSTART:20200329T010000
END:DAYLIGHT
BEGIN:STANDARD
TZOFFSETFROM:+0100
TZOFFSETTO:+0000
TZNAME:GMT
DTSTART:20201025T010000
END:STANDARD
BEGIN:DAYLIGHT
TZOFFSETFROM:+0000
TZOFFSETTO:+0100
TZNAME:BST
DTSTART:20210328T010000
END:DAYLIGHT
BEGIN:STANDARD
TZOFFSETFROM:+0100
TZOFFSETTO:+0000
TZNAME:GMT
DTSTART:20211031T010000
END:STANDARD
END:VTIMEZONE
BEGIN:VEVENT
DTSTART;TZID=Europe/London:20201201T160000
DTEND;TZID=Europe/London:20201201T171500
DTSTAMP:20260425T161625
CREATED:20201125T090807Z
LAST-MODIFIED:20201125T091259Z
UID:6222-1606838400-1606842900@www.bfriars.ox.ac.uk
SUMMARY:Reinterpreting History in an Evolving World
DESCRIPTION:Nationalism\, populism\, and resurgent racism have combined in a toxic political and cultural stew around the world to challenge established patterns of civic dialogue and interrupt the natural evolution of democracy. In response\, monuments are toppling\, schools and buildings are being renamed\, and historical memory itself has come under review and regulation in some countries. \nJoin public players from the United Kingdom\, Hungary\, Singapore\, and Charlottesville\, Virginia\, in a virtual transatlantic dialogue about the reexamination of reputations and settling of scores that may have serious consequences for free speech and international understanding in the years ahead. The conversation will be moderated by Professor Michael Scott\, senior dean and Fellow at Blackfriars Hall\, the University of Oxford\, and Sanford J. Ungar\, director of the Free Speech Project at Georgetown University. \nFree and open to all. Registration is required. \n\n\n\n\nParticipants\n\n\nNirmal Ghosh has been U.S. bureau chief for the Straits Times\, Singapore’s leading English-language newspaper\, since 2016. An award-winning journalist\, since 1994 he has been a foreign correspondent covering political and environmental issues across Asia. He was a 2015 Jefferson Fellow and a 2016 presidential election reporting fellow at the East-West Center. Ghosh is also a trustee of the Corbett Foundation\, an environmental organization based in India. \n\n\n\n\nGail Leftwich Kitch\, a consultant on civic engagement based in Charlottesville\, Virginia\, is CEO of Miranda Consulting. After practicing law in Washington\, DC\, and Boston\, Kitch had a career as a nonprofit administrator\, serving most recently as the executive vice president of communications and finance at the Voter Participation Center\, a nonpartisan voting rights organization. She currently serves on the boards of the National Conference on Citizenship and the Charlottesville Opera. \n\n\n\n\nBaroness Usha Prashar of Runnymede has been a cross-bench (independent) member of the British House of Lords since 1999. Born in Kenya\, she has been deeply involved in human rights and race relations issues throughout her career\, and she is now a senior consultant to Seriously Inclusive\, which helps organizations develop effective policies and practices to promote diversity and inclusion. Baroness Prashar is also honorary president of the National Literacy Trust in the United Kingdom. \n\n\n\n\nProfessor Peter Róna is a Fellow and director of the Las Casas Institute’s economics program at the University of Oxford. Róna specializes in the philosophical foundations of the social sciences\, particularly economics. Previously\, he was the president of Schroders\, and he later served as the CEO of the First Hungary Fund\, from which he retired in 2003. In 2010 he was appointed to the Supervisory Board of the Central Bank of Hungary. \n\n\n\n\nProfessor Michael Scott (moderator) is Senior Dean\, Fellow of Blackfriars Hall\, the University of Oxford\, college adviser for postgraduate students\, and a Member of the Las Casas Institute. He also serves as senior adviser to the president at Georgetown University. Scott was on the Editorial Board which relaunched Critical Survey from Oxford University Press. Scott previously served as the pro vice chancellor at De Montfort University and founding vice chancellor of Wrexham Glyndwr University. \n\n\n\n\nSanford J. Ungar (moderator)\, president emeritus of Goucher College\, is director of the Free Speech Project at Georgetown University\, which documents challenges to free expression in education\, government\, and civil society in the United States. Director of the Voice of America under President Bill Clinton\, he was dean of the American University School of Communication after a distinguished career in journalism. Ungar is a former co-host of All Things Considered on NPR.
URL:https://www.bfriars.ox.ac.uk/event/reinterpreting-history-in-an-evolving-world/
CATEGORIES:Las Casas Institute
END:VEVENT
BEGIN:VEVENT
DTSTART;TZID=Europe/London:20201203T170000
DTEND;TZID=Europe/London:20201203T180000
DTSTAMP:20260425T161625
CREATED:20201123T140320Z
LAST-MODIFIED:20220214T132439Z
UID:6207-1607014800-1607018400@www.bfriars.ox.ac.uk
SUMMARY:A Christian Approach to Corporate Religious Liberty - Book launch
DESCRIPTION:Blackfriars Oxford is hosting a panel discussion of A Christian Approach to Corporate Religious Liberty\, a new book by Blackfriars JRF\,  Edward A. David\, featuring: \nBrett Bertucio\, University of Wisconsin-Madison \nEdward A. David\, University of Oxford \nRobert J. Matava\, Christendom College \nModerated by Rev Dr Bruno Clifton OP\, this event is sponsored by the Senior Common Room at Blackfriars Hall\, in partnership with the Las Casas Institute for Social Justice. \n  \nThis online event is free and open to the public.\nRegister here. \n  \n\nAbout the book: \nOne of the most contentious issues in American law involves the extension of religious freedoms to corporate entities. A Christian Approach to Corporate Religious Liberty argues that religious freedoms should extend to houses of worship as well as for-profit corporations\, albeit to different degrees. Whilst not a radically new proposal\, this position is reached through novel means—one that views groups as occasions of coordinated activity and the Church (specifically the invisible Church) as a supernatural person. This group-ontological approach helps solve a number of moral puzzles associated with a new—and controversial—form of religious liberty. \nSpeakers: \nEdward A. David is a Postdoctoral Research Fellow in the Faculty of Theology and Religion at the University of Oxford. His research investigates the empirical and moral dimensions of character development amongst leaders in the technology\, legal and financial services sectors. Edward also works in the growing field of law and religion. He has published in The Oxford Journal of Law and Religion\, and his monograph\, A Christian Approach to Corporate Religious Liberty\, was recently released by Palgrave Macmillan (2020). Bridging the gap between academia and industry\, Edward serves as an academic consultant for the Goldman Sachs 10\,000 Small Businesses UK programme\, and is a lead author of the Goldman Sachs 10\,000 Women programme on Coursera. \nBrett Bertucio is the Avner S. Barr Dissertation Fellow at the University of Wisconsin-Madison (USA)\, where he is finishing his doctoral dissertation in the Education Policy Studies and Curriculum & Instruction departments. Brett’s research examines how American judges\, curriculum developers\, and educators understand church-state relations. Brett is a former fellow of the Religious Freedom Center in Washington DC\, and his work has been published in First Things as well as in numerous academic journals\, including Education Theory\, Monastic Education\, Philosophical Inquiry in Education\, Social Studies Education\, Studies in Philosophy and Education\, and The Journal of Law and Religion. \nRobert J. Matava is an Associate Professor of Theology and the Dean of the Graduate School at Christendom College (USA). Robert works at the intersection of philosophical theology\, Christian doctrine\, and moral theory. He is the author of Divine Causality and Human Free Choice: Domingo Báñez\, Physical Premotion and the Controversy de Auxiliis Revisited (Brill\, 2016). He was the Liddon Fellow in Theology at Keble College\, University of Oxford\, and a fellow of the Center for Medieval Philosophy at Georgetown University. He received the Founder’s Award from the Society for Medieval and Renaissance Philosophy in 2009. Robert has published essays in the American Catholic Philosophical Quarterly\, the American Journal of Jurisprudence\, Cuadernos de pensamiento Español\, and Studies in Christian Ethics. He sits on the board of directors for the Fellowship of Catholic Scholars\, and has delivered research and popular presentations across the US and Europe. \n 
URL:https://www.bfriars.ox.ac.uk/event/a-christian-approach-to-corporate-religious-liberty-book-launch/
CATEGORIES:Las Casas Institute
ORGANIZER;CN="Las Casas Institute":MAILTO:lascasas@bfriars.ox.ac.uk
END:VEVENT
BEGIN:VEVENT
DTSTART;TZID=Europe/London:20201208T160000
DTEND;TZID=Europe/London:20201208T170000
DTSTAMP:20260425T161625
CREATED:20201008T094909Z
LAST-MODIFIED:20201008T100332Z
UID:5792-1607443200-1607446800@www.bfriars.ox.ac.uk
SUMMARY:Cyril Tourneur's The Atheist's Tragedy - The Christian Literary Imagination Series
DESCRIPTION:The Christian Literary Imagination Series\n \nOver the course of the 2020-2021 academic year\, the Future of the Humanities Project is sponsoring a series of webinars on the Christian literary imagination in collaboration with Blackfriars Hall\, University of Oxford. The ‘Christian Literary Imagination Series’ will explore the role and function of the arts and humanities in the development of the individual and society. \nThe series features talks by distinguished scholars from both sides of the Atlantic discussing authors or works from Shakespeare to Elizabeth Barrett Browning. Each speaker aims to examine the term ‘Christian imagination’ through a discussion of a particular writer\, or an aspect of the term. The hour-long virtual events will be followed by a Q & As chaired by Professor Michael Scott. \nIn this event John Drakakis\, University of Stirling\, talks about “Cyril Tourneur’s The Atheist’s Tragedy“. \nThis event is free and hosted on Zoom by Georgetown University. \n 
URL:https://www.bfriars.ox.ac.uk/event/cyril-tourneurs-the-atheists-tragedy-the-christian-literary-imagination-series/
CATEGORIES:Las Casas Institute
ORGANIZER;CN="Las Casas Institute with Georgetown University":MAILTO:lascasas@bfriars.ox.ac.uk
END:VEVENT
END:VCALENDAR