BEGIN:VCALENDAR
VERSION:2.0
PRODID:-//Blackfriars Hall - ECPv6.15.12.2//NONSGML v1.0//EN
CALSCALE:GREGORIAN
METHOD:PUBLISH
X-ORIGINAL-URL:https://www.bfriars.ox.ac.uk
X-WR-CALDESC:Events for Blackfriars Hall
REFRESH-INTERVAL;VALUE=DURATION:PT1H
X-Robots-Tag:noindex
X-PUBLISHED-TTL:PT1H
BEGIN:VTIMEZONE
TZID:Europe/London
BEGIN:DAYLIGHT
TZOFFSETFROM:+0000
TZOFFSETTO:+0100
TZNAME:BST
DTSTART:20200329T010000
END:DAYLIGHT
BEGIN:STANDARD
TZOFFSETFROM:+0100
TZOFFSETTO:+0000
TZNAME:GMT
DTSTART:20201025T010000
END:STANDARD
BEGIN:DAYLIGHT
TZOFFSETFROM:+0000
TZOFFSETTO:+0100
TZNAME:BST
DTSTART:20210328T010000
END:DAYLIGHT
BEGIN:STANDARD
TZOFFSETFROM:+0100
TZOFFSETTO:+0000
TZNAME:GMT
DTSTART:20211031T010000
END:STANDARD
BEGIN:DAYLIGHT
TZOFFSETFROM:+0000
TZOFFSETTO:+0100
TZNAME:BST
DTSTART:20220327T010000
END:DAYLIGHT
BEGIN:STANDARD
TZOFFSETFROM:+0100
TZOFFSETTO:+0000
TZNAME:GMT
DTSTART:20221030T010000
END:STANDARD
END:VTIMEZONE
BEGIN:VEVENT
DTSTART;VALUE=DATE:20210419
DTEND;VALUE=DATE:20210422
DTSTAMP:20260425T161706
CREATED:20210417T104206Z
LAST-MODIFIED:20210417T104206Z
UID:6846-1618790400-1619049599@www.bfriars.ox.ac.uk
SUMMARY:Homo Curator - The ethics of consumption
DESCRIPTION:An invitation-only symposium examining the possible moral and other foundations for bringing consumption into line with the Earth’s capacities.
URL:https://www.bfriars.ox.ac.uk/event/homo-curator-the-ethics-of-consumption/
CATEGORIES:Las Casas Institute
ORGANIZER;CN="Las Casas Institute":MAILTO:lascasas@bfriars.ox.ac.uk
END:VEVENT
BEGIN:VEVENT
DTSTART;TZID=Europe/London:20210427T160000
DTEND;TZID=Europe/London:20210427T170000
DTSTAMP:20260425T161706
CREATED:20210409T103256Z
LAST-MODIFIED:20210409T103256Z
UID:6789-1619539200-1619542800@www.bfriars.ox.ac.uk
SUMMARY:Dante - The Christian Literary Imagination Series
DESCRIPTION:The Christian Literary Imagination Series\n \nOver the course of the 2020-2021 academic year\, the Future of the Humanities Project is sponsoring a series of webinars on the Christian literary imagination in collaboration with Blackfriars Hall\, University of Oxford. The ‘Christian Literary Imagination Series’ will explore the role and function of the arts and humanities in the development of the individual and society. \nThe series features talks by distinguished scholars from both sides of the Atlantic discussing authors or works from Shakespeare to Elizabeth Barrett Browning. Each speaker aims to examine the term ‘Christian imagination’ through a discussion of a particular writer\, or an aspect of the term. The hour-long virtual events will be followed by a Q & As chaired by Professor Michael Scott. \nIn this event of the series Frank Ambrosio\, Georgetown University\, talks about ‘The Gospel According to Dante’. \nFrank Ambrosio is associate professor of philosophy at Georgetown University. After studies in Italian language and literature in Florence\, Italy\, he completed his doctoral degree at Fordham University. He is the founding director\, with Edward Maloney\, of the Georgetown University “My Dante Project\,” an online platform for personal and collaborative study of Dante’s Commedia. In 2014 he was lead instructor for the launch of an ongoing web-based course on Dante offered by EDX which has been utilized by over 20\,000 people worldwide. His most recent book is Dante and Derrida: Face to Face (2007). \nThis event is free and hosted on Zoom by Georgetown University.
URL:https://www.bfriars.ox.ac.uk/event/dante-the-christian-literary-imagination-series/
CATEGORIES:Las Casas Institute
ORGANIZER;CN="Las Casas Institute with Georgetown University":MAILTO:lascasas@bfriars.ox.ac.uk
END:VEVENT
BEGIN:VEVENT
DTSTART;TZID=Europe/London:20210428T180000
DTEND;TZID=Europe/London:20210428T193000
DTSTAMP:20260425T161706
CREATED:20210331T093115Z
LAST-MODIFIED:20210427T064359Z
UID:6643-1619632800-1619638200@www.bfriars.ox.ac.uk
SUMMARY:Rebels\, Romantics and Prophets. The responsibility of Priests\, Politicians and Intellectuals in the Colombian Armed Conflict
DESCRIPTION:Colombia is in an ongoing peace and transitional justice process between the Government and the FARC guerrilla since 2016. However\, that country still faces a cultural and political dispute over the narrative of the origins\, development\, and effects of the armed conflict and its main responsible actors.  As a way of contributing to a much needed clarification process\, Dr. Iván Garzón Vallejo’s volume proposes a classification around political and religious violence debates. First\, the rebels who took up arms and joined the emergent guerrillas. Second\, the romantics\, who assume an ambiguous position; that is\, those who condemned the violence\, but at the same time\, they approved or excused an exceptional use of force towards achieving social changes.  And third\, the prophets\, who believed that social changes could be achieved within democratic rules and\, indeed\, they rejected an agreement with the Devil\, as Weber calls the option for violence. \nDr. Iván Garzón Vallejo will present his book.  Dr. Iván Garzón Vallejo is currently a Visiting Researcher at Universidad Complutense de Madrid and Advisor of the Colombian Truth Commission and the National Center of Historical Memory. He currently teaches at Universidad de los Andes (Colombia) and Universidad Internacional de la Rioja-UNIR (Spain). He is the author and editor of six books and over fifty academic works about topics such as political theory\, philosophy of law and constitutional law. He was Visiting researcher at Berkley Center for Religion\, Peace & World Affairs from Georgetown University and visiting scholar at Missouri State University. His issues of research are: Politics of memory; Liberalism\, democracy and contemporary ethical debates and Politics\, religion and violence. He holds a PhD in Political Sciences from Pontificia Universidad Católica Argentina (Buenos Aires) and a law degree from Universidad Pontifici a Bolivariana (Medellín) with Philosophy studies. \nDr. Jenny Pearce\, Research Professor at LSE’s Latin America and Caribbean Centre\, will discuss the book. Jenny Pearce is Research Professor in the Latin American and Caribbean Centre at the LSE. She was Professor of Latin American Politics in the Department of Peace Studies\, University of Bradford 1992-2016. She is a political scientist with area expertise in Latin America. She works with anthropological and participatory research methodologies on social change\, violence\, security\, power and participation in the region. She considers herself a peace scholar\, committed to theoretical development of the field of peace\, power and violence as well as empirical study. She has conducted fieldwork since the 1980s in Colombia\, Central America\, Mexico\, Chile\, Brazil and Venezuela\, and has published widely.   She was Visiting Professor at the University of Monterey (2014)\, Mexico\, and the Bolivariana University\, Medellin\, Colombia\, and at Edgehill University (2014-2019) . In July 2015 she was awarded an honour as ‘Outstanding Latin Americanist’ by the International Conference of Americanists (ICA) at their conference in El Salvador. She was Principal Investigator on the ESRC/Conacyt Newton Project : ‘Co-Constructing Security in Mexico: From Communities to the State’ 2016-2018. Her latest book is  ‘Politics without Violence? Towards a Post Weberian Enlightenment’. \nEduardo Gutiérrez Gonzalez\, DPhil Student at Blackfriars Hall with a scholarship associated to Las Casas Institute\, will guide the discussion.
URL:https://www.bfriars.ox.ac.uk/event/rebels-romantics-and-prophets-the-responsibility-of-priests-politicians-and-intellectuals-in-the-colombian-armed-conflict/
CATEGORIES:Las Casas Institute
ORGANIZER;CN="Las Casas Institute":MAILTO:lascasas@bfriars.ox.ac.uk
END:VEVENT
END:VCALENDAR