BEGIN:VCALENDAR
VERSION:2.0
PRODID:-//Blackfriars Hall - ECPv6.15.12.2//NONSGML v1.0//EN
CALSCALE:GREGORIAN
METHOD:PUBLISH
X-WR-CALNAME:Blackfriars Hall
X-ORIGINAL-URL:https://www.bfriars.ox.ac.uk
X-WR-CALDESC:Events for Blackfriars Hall
REFRESH-INTERVAL;VALUE=DURATION:PT1H
X-Robots-Tag:noindex
X-PUBLISHED-TTL:PT1H
BEGIN:VTIMEZONE
TZID:Europe/London
BEGIN:DAYLIGHT
TZOFFSETFROM:+0000
TZOFFSETTO:+0100
TZNAME:BST
DTSTART:20240331T010000
END:DAYLIGHT
BEGIN:STANDARD
TZOFFSETFROM:+0100
TZOFFSETTO:+0000
TZNAME:GMT
DTSTART:20241027T010000
END:STANDARD
BEGIN:DAYLIGHT
TZOFFSETFROM:+0000
TZOFFSETTO:+0100
TZNAME:BST
DTSTART:20250330T010000
END:DAYLIGHT
BEGIN:STANDARD
TZOFFSETFROM:+0100
TZOFFSETTO:+0000
TZNAME:GMT
DTSTART:20251026T010000
END:STANDARD
BEGIN:DAYLIGHT
TZOFFSETFROM:+0000
TZOFFSETTO:+0100
TZNAME:BST
DTSTART:20260329T010000
END:DAYLIGHT
BEGIN:STANDARD
TZOFFSETFROM:+0100
TZOFFSETTO:+0000
TZNAME:GMT
DTSTART:20261025T010000
END:STANDARD
END:VTIMEZONE
BEGIN:VEVENT
DTSTART;TZID=Europe/London:20250609T140000
DTEND;TZID=Europe/London:20250610T153000
DTSTAMP:20260423T112839
CREATED:20250505T114304Z
LAST-MODIFIED:20250507T085136Z
UID:10309-1749477600-1749569400@www.bfriars.ox.ac.uk
SUMMARY:Thomistic Metaphysics Seminar
DESCRIPTION:Co-sponsored by the Aquinas Institute\, Blackfriars Hall\, and the Thomistic Institute\, this is a seminar for faculty\, graduate students\, advanced undergraduate students\, and postdocs in philosophy and related disciplines. \n9th June: 2:00 pm – 6:00 pm\, at the Michael Dummett Lecture Theatre\, Christ Church\, Oxford \n10th June: 9:15 am – 3:30 pm\, at the Cathedral Chapter House\, Christ Church\, Oxford \nOpen to academics and university members. To register for this event\, please follow the link \nSchedule\nDay 1: Arguments for the Real Distinction between Esse and Essentia \n\n\nDaniel De Haan (University of Oxford) \n\n\nGaven Kerr (St. Patrick’s College\, Maynooth) \n\n\nJoshua Hochschild (Mount St. Mary’s University) \n\n\nDominic LaMantia (University of Notre Dame) \n\n\nMichael Gorman (The Catholic University of America) \n\n\nTurner Nevitt (University of San Diego) \n\n\nDay 2: How does esse relate to essentia? \n\n\nFr. Philip-Neri Reese\, O.P. (Angelicum) \n\n\nThomas Osborne (University of St. Thomas\, Houston) \n\n\nDomenic D’Ettore (University of St. Thomas\, Houston) \n\n\nBrian Carl (University of St. Thomas\, Houston) \n\n\nFrancesco Banfi (University of Oxford)
URL:https://www.bfriars.ox.ac.uk/event/thomistic-metaphysics-seminar/
LOCATION:Blackfriars Hall\, St Giles\, Oxford\, OX1 3LY\, United Kingdom
CATEGORIES:The Aquinas Institute
ORGANIZER;CN="Aquinas Institute":MAILTO:aquinas@bfriars.ox.ac.uk
GEO:51.756248;-1.259881
X-APPLE-STRUCTURED-LOCATION;VALUE=URI;X-ADDRESS=Blackfriars Hall St Giles Oxford OX1 3LY United Kingdom;X-APPLE-RADIUS=500;X-TITLE=St Giles:geo:-1.259881,51.756248
END:VEVENT
BEGIN:VEVENT
DTSTART;TZID=Europe/London:20250618T170000
DTEND;TZID=Europe/London:20250618T190000
DTSTAMP:20260423T112839
CREATED:20250505T120306Z
LAST-MODIFIED:20250602T153916Z
UID:10311-1750266000-1750273200@www.bfriars.ox.ac.uk
SUMMARY:Rivalling Kingdoms of Desire in Dostoevsky’s Crime and Punishment
DESCRIPTION:Led by Philip John Paul Gonzales (St. Mary’s Seminary & University\, Baltimore)\, this lecture will discuss Dostoevsky’s Crime and Punishment. The apocalyptic artistry of Dostoevsky will be on full show as Philip Gonzales explores the underground desires and the battle between the two kingdoms in this key work of the western canon. \nThis event will take place Wednesday the 18th of June\, at 5pm in the Aula \nTo register to attend\, please follow the link
URL:https://www.bfriars.ox.ac.uk/event/rivaling-kingdoms-of-desire-in-dostoevskys-crime-and-punishment/
LOCATION:Blackfriars Hall\, St Giles\, Oxford\, OX1 3LY\, United Kingdom
CATEGORIES:The Aquinas Institute
ORGANIZER;CN="Aquinas Institute":MAILTO:aquinas@bfriars.ox.ac.uk
GEO:51.756248;-1.259881
X-APPLE-STRUCTURED-LOCATION;VALUE=URI;X-ADDRESS=Blackfriars Hall St Giles Oxford OX1 3LY United Kingdom;X-APPLE-RADIUS=500;X-TITLE=St Giles:geo:-1.259881,51.756248
END:VEVENT
END:VCALENDAR